{
 "currentVersion": 11.3,
 "serviceDescription": "Aerials/Aerials_2020_tif",
 "name": "Aerials/Aerials_2020_tif",
 "description": "",
 "extent": {
  "xmin": 1.3219998708409935E7,
  "ymin": 685002.7793125595,
  "xmax": 1.3247498958409935E7,
  "ymax": 720003.0293125595,
  "spatialReference": {
   "wkid": 2898,
   "latestWkid": 2898
  }
 },
 "initialExtent": {
  "xmin": 1.3219998708409935E7,
  "ymin": 685002.7793125595,
  "xmax": 1.3247498958409935E7,
  "ymax": 720003.0293125595,
  "spatialReference": {
   "wkid": 2898,
   "latestWkid": 2898
  }
 },
 "fullExtent": {
  "xmin": 1.3219998708409935E7,
  "ymin": 685002.7793125595,
  "xmax": 1.3247498958409935E7,
  "ymax": 720003.0293125595,
  "spatialReference": {
   "wkid": 2898,
   "latestWkid": 2898
  }
 },
 "sortableFields": "",
 "bandCount": 3,
 "pixelType": "U8",
 "minValues": [
  0,
  0,
  0
 ],
 "maxValues": [
  255,
  255,
  255
 ],
 "meanValues": [
  149.4645143538,
  152.05588057664,
  140.17576486906
 ],
 "stdvValues": [
  71.327312804579,
  68.695484813829,
  74.504220623098
 ],
 "hasMultidimensions": false,
 "pixelSizeX": 0.25,
 "pixelSizeY": 0.25,
 "meanPixelSize": 0.0762,
 "datasetFormat": "TIFF",
 "uncompressedSize": 46200750003,
 "blockWidth": 128,
 "blockHeight": 128,
 "compressionType": "None",
 "bandNames": [
  "Band_1",
  "Band_2",
  "Band_3"
 ],
 "allowCopy": true,
 "allowAnalysis": true,
 "itemAccess": false,
 "inspectionCapabilities": "",
 "minPixelSize": 0,
 "maxPixelSize": 0,
 "copyrightText": "",
 "serviceDataType": "esriImageServiceDataTypeRGB",
 "serviceSourceType": "esriImageServiceSourceTypeDataset",
 "objectIdField": "",
 "fields": [],
 "capabilities": "Image,Metadata,Mensuration",
 "defaultMosaicMethod": "Center",
 "allowedMosaicMethods": "",
 "sortField": "",
 "sortValue": null,
 "sortAscending": true,
 "mosaicOperator": "First",
 "defaultCompressionQuality": 75,
 "defaultResamplingMethod": "Bilinear",
 "maxImageHeight": 4100,
 "maxImageWidth": 15000,
 "allowRasterFunction": true,
 "rasterFunctionInfos": [
  {
   "name": "None",
   "description": "",
   "help": ""
  }
 ],
 "rasterTypeInfos": [
  {
   "name": "Raster Dataset",
   "description": "Supports all ArcGIS Raster Datasets",
   "help": ""
  }
 ],
 "mensurationCapabilities": "Basic",
 "hasHistograms": true,
 "hasColormap": false,
 "hasRasterAttributeTable": false,
 "minScale": 0,
 "maxScale": 0,
 "exportTilesAllowed": false,
 "supportsStatistics": false,
 "supportsAdvancedQueries": false,
 "editFieldsInfo": null,
 "ownershipBasedAccessControlForRasters": null,
 "allowComputeTiePoints": false,
 "useStandardizedQueries": true,
 "advancedQueryCapabilities": {
  "useStandardizedQueries": true,
  "supportsStatistics": false,
  "supportsOrderBy": false,
  "supportsDistinct": false,
  "supportsPagination": false
 },
 "spatialReference": {
  "wkid": 2898,
  "latestWkid": 2898
 }
}
