{
 "currentVersion": 11.3,
 "serviceDescription": "Aerials/Aerials_HARN_2025",
 "name": "Aerials/Aerials_HARN_2025",
 "description": "",
 "extent": {
  "xmin": 1.3219999999999998E7,
  "ymin": 685000,
  "xmax": 1.3247499999999998E7,
  "ymax": 720000,
  "spatialReference": {
   "wkid": 2898,
   "latestWkid": 2898
  }
 },
 "initialExtent": {
  "xmin": 1.3219999999999998E7,
  "ymin": 685000,
  "xmax": 1.3247499999999998E7,
  "ymax": 720000,
  "spatialReference": {
   "wkid": 2898,
   "latestWkid": 2898
  }
 },
 "fullExtent": {
  "xmin": 1.3219999999999998E7,
  "ymin": 685000,
  "xmax": 1.3247499999999998E7,
  "ymax": 720000,
  "spatialReference": {
   "wkid": 2898,
   "latestWkid": 2898
  }
 },
 "sortableFields": "",
 "bandCount": 4,
 "pixelType": "S16",
 "minValues": [
  0,
  0,
  0,
  0
 ],
 "maxValues": [
  255,
  255,
  255,
  255
 ],
 "meanValues": [
  142.69237937454545,
  141.2989569237987,
  140.05002638829004,
  150.9590960350487
 ],
 "stdvValues": [
  78.70846319270473,
  79.20347384513802,
  79.52231055833835,
  91.44430995598943
 ],
 "hasMultidimensions": false,
 "pixelSizeX": 0.25,
 "pixelSizeY": 0.25,
 "meanPixelSize": 0.0762,
 "datasetFormat": "SDR",
 "uncompressedSize": 123200000000,
 "blockWidth": 128,
 "blockHeight": 128,
 "compressionType": "LZ77",
 "bandNames": [
  "Band_1",
  "Band_2",
  "Band_3",
  "Band_4"
 ],
 "allowCopy": true,
 "allowAnalysis": true,
 "itemAccess": false,
 "inspectionCapabilities": "",
 "minPixelSize": 0,
 "maxPixelSize": 0,
 "copyrightText": "",
 "serviceDataType": "esriImageServiceDataTypeGeneric",
 "serviceSourceType": "esriImageServiceSourceTypeDataset",
 "objectIdField": "",
 "fields": [],
 "capabilities": "Image,Metadata,Mensuration",
 "defaultMosaicMethod": "Center",
 "allowedMosaicMethods": "",
 "sortField": "",
 "sortValue": null,
 "sortAscending": true,
 "mosaicOperator": "First",
 "defaultCompressionQuality": 75,
 "defaultResamplingMethod": "Bilinear",
 "maxImageHeight": 4100,
 "maxImageWidth": 15000,
 "allowRasterFunction": true,
 "rasterFunctionInfos": [
  {
   "name": "None",
   "description": "",
   "help": ""
  }
 ],
 "rasterTypeInfos": [
  {
   "name": "Raster Dataset",
   "description": "Supports all ArcGIS Raster Datasets",
   "help": ""
  }
 ],
 "mensurationCapabilities": "Basic",
 "hasHistograms": true,
 "hasColormap": false,
 "hasRasterAttributeTable": false,
 "minScale": 0,
 "maxScale": 0,
 "exportTilesAllowed": false,
 "supportsStatistics": false,
 "supportsAdvancedQueries": false,
 "editFieldsInfo": null,
 "ownershipBasedAccessControlForRasters": null,
 "allowComputeTiePoints": false,
 "useStandardizedQueries": true,
 "advancedQueryCapabilities": {
  "useStandardizedQueries": true,
  "supportsStatistics": false,
  "supportsOrderBy": false,
  "supportsDistinct": false,
  "supportsPagination": false
 },
 "spatialReference": {
  "wkid": 2898,
  "latestWkid": 2898
 }
}
