View In:
ArcGIS JavaScript
ArcGIS Online Map Viewer
ArcGIS Earth
Service Description: Aerials/Aerials_2020_tif
Name: Aerials/Aerials_2020_tif
Description:
Single Fused Map Cache: false
Extent:
XMin: 1.3219998708409935E7
YMin: 685002.7793125595
XMax: 1.3247498958409935E7
YMax: 720003.0293125595
Spatial Reference: 2898
(2898)
LatestVCSWkid(0)
Initial Extent:
XMin: 1.3219998708409935E7
YMin: 685002.7793125595
XMax: 1.3247498958409935E7
YMax: 720003.0293125595
Spatial Reference: 2898
(2898)
LatestVCSWkid(0)
Full Extent:
XMin: 1.3219998708409935E7
YMin: 685002.7793125595
XMax: 1.3247498958409935E7
YMax: 720003.0293125595
Spatial Reference: 2898
(2898)
LatestVCSWkid(0)
Pixel Size X: 0.25
Pixel Size Y: 0.25
Band Count: 3
Pixel Type: U8
RasterFunction Infos: {"rasterFunctionInfos": [{
"name": "None",
"description": "",
"help": ""
}]}
Mensuration Capabilities: Basic
Inspection Capabilities:
Has Histograms: true
Has Colormap: false
Has Multi Dimensions : false
Rendering Rule:
Min Scale: 0
Max Scale: 0
Copyright Text:
Service Data Type: esriImageServiceDataTypeRGB
Min Values: 0, 0, 0
Max Values: 255, 255, 255
Mean Values: 149.4645143538, 152.05588057664, 140.17576486906
Standard Deviation Values: 71.327312804579, 68.695484813829, 74.504220623098
Object ID Field:
Fields:
None
Default Mosaic Method: Center
Allowed Mosaic Methods:
SortField:
SortValue: null
Mosaic Operator: First
Default Compression Quality: 75
Default Resampling Method: Bilinear
Max Record Count: null
Max Image Height: 4100
Max Image Width: 15000
Max Download Image Count: null
Max Mosaic Image Count: null
Allow Raster Function: true
Allow Copy: true
Allow Analysis: true
Allow Compute TiePoints: false
Supports Statistics: false
Supports Advanced Queries: false
Use StandardizedQueries: true
Raster Type Infos:
Name: Raster Dataset
Description: Supports all ArcGIS Raster Datasets
Help:
Has Raster Attribute Table: false
Edit Fields Info: null
Ownership Based AccessControl For Rasters: null
Child Resources:
Info
Histograms
Statistics
Key Properties
Legend
Raster Function Infos
Supported Operations:
Export Image
Identify
Measure
Compute Histograms
Compute Statistics Histograms
Get Samples
Compute Class Statistics
Query Boundary
Compute Pixel Location
Compute Angles
Validate
Project