View In:
ArcGIS JavaScript
ArcGIS Online Map Viewer
ArcGIS Earth
Service Description: Aerials/Aerials_HARN_2025
Name: Aerials/Aerials_HARN_2025
Description:
Single Fused Map Cache: false
Extent:
XMin: 1.3219999999999998E7
YMin: 685000.0
XMax: 1.3247499999999998E7
YMax: 720000.0
Spatial Reference: 2898
(2898)
LatestVCSWkid(0)
Initial Extent:
XMin: 1.3219999999999998E7
YMin: 685000.0
XMax: 1.3247499999999998E7
YMax: 720000.0
Spatial Reference: 2898
(2898)
LatestVCSWkid(0)
Full Extent:
XMin: 1.3219999999999998E7
YMin: 685000.0
XMax: 1.3247499999999998E7
YMax: 720000.0
Spatial Reference: 2898
(2898)
LatestVCSWkid(0)
Pixel Size X: 0.25
Pixel Size Y: 0.25
Band Count: 4
Pixel Type: S16
RasterFunction Infos: {"rasterFunctionInfos": [{
"name": "None",
"description": "",
"help": ""
}]}
Mensuration Capabilities: Basic
Inspection Capabilities:
Has Histograms: true
Has Colormap: false
Has Multi Dimensions : false
Rendering Rule:
Min Scale: 0
Max Scale: 0
Copyright Text:
Service Data Type: esriImageServiceDataTypeGeneric
Min Values: 0, 0, 0, 0
Max Values: 255, 255, 255, 255
Mean Values: 142.69237937454545, 141.2989569237987, 140.05002638829004, 150.9590960350487
Standard Deviation Values: 78.70846319270473, 79.20347384513802, 79.52231055833835, 91.44430995598943
Object ID Field:
Fields:
None
Default Mosaic Method: Center
Allowed Mosaic Methods:
SortField:
SortValue: null
Mosaic Operator: First
Default Compression Quality: 75
Default Resampling Method: Bilinear
Max Record Count: null
Max Image Height: 4100
Max Image Width: 15000
Max Download Image Count: null
Max Mosaic Image Count: null
Allow Raster Function: true
Allow Copy: true
Allow Analysis: true
Allow Compute TiePoints: false
Supports Statistics: false
Supports Advanced Queries: false
Use StandardizedQueries: true
Raster Type Infos:
Name: Raster Dataset
Description: Supports all ArcGIS Raster Datasets
Help:
Has Raster Attribute Table: false
Edit Fields Info: null
Ownership Based AccessControl For Rasters: null
Child Resources:
Info
Histograms
Statistics
Key Properties
Legend
Raster Function Infos
Supported Operations:
Export Image
Identify
Measure
Compute Histograms
Compute Statistics Histograms
Get Samples
Compute Class Statistics
Query Boundary
Compute Pixel Location
Compute Angles
Validate
Project